BEGIN:VCALENDAR
VERSION:2.0
PRODID:-//Strzelnica Playground - ECPv6.15.13.1//NONSGML v1.0//EN
CALSCALE:GREGORIAN
METHOD:PUBLISH
X-WR-CALNAME:Strzelnica Playground
X-ORIGINAL-URL:https://strzelnica-playground.pl
X-WR-CALDESC:Wydarzenia dla Strzelnica Playground
REFRESH-INTERVAL;VALUE=DURATION:PT1H
X-Robots-Tag:noindex
X-PUBLISHED-TTL:PT1H
BEGIN:VTIMEZONE
TZID:Europe/Warsaw
BEGIN:DAYLIGHT
TZOFFSETFROM:+0100
TZOFFSETTO:+0200
TZNAME:CEST
DTSTART:20230326T010000
END:DAYLIGHT
BEGIN:STANDARD
TZOFFSETFROM:+0200
TZOFFSETTO:+0100
TZNAME:CET
DTSTART:20231029T010000
END:STANDARD
BEGIN:DAYLIGHT
TZOFFSETFROM:+0100
TZOFFSETTO:+0200
TZNAME:CEST
DTSTART:20240331T010000
END:DAYLIGHT
BEGIN:STANDARD
TZOFFSETFROM:+0200
TZOFFSETTO:+0100
TZNAME:CET
DTSTART:20241027T010000
END:STANDARD
BEGIN:DAYLIGHT
TZOFFSETFROM:+0100
TZOFFSETTO:+0200
TZNAME:CEST
DTSTART:20250330T010000
END:DAYLIGHT
BEGIN:STANDARD
TZOFFSETFROM:+0200
TZOFFSETTO:+0100
TZNAME:CET
DTSTART:20251026T010000
END:STANDARD
BEGIN:DAYLIGHT
TZOFFSETFROM:+0100
TZOFFSETTO:+0200
TZNAME:CEST
DTSTART:20260329T010000
END:DAYLIGHT
BEGIN:STANDARD
TZOFFSETFROM:+0200
TZOFFSETTO:+0100
TZNAME:CET
DTSTART:20261025T010000
END:STANDARD
END:VTIMEZONE
BEGIN:VEVENT
DTSTART;TZID=Europe/Warsaw:20251102T090000
DTEND;TZID=Europe/Warsaw:20251102T150000
DTSTAMP:20260420T122547
CREATED:20251020T113630Z
LAST-MODIFIED:20251020T113630Z
UID:3617-1762074000-1762095600@strzelnica-playground.pl
SUMMARY:Zawody strzeleckie "Już Czas" edycja listopad
DESCRIPTION:Kolejne w tym roku zawody strzeleckie z serii „Już czas” \nZapisz się na zawody strzeleckie „Już Czas”\, które odbędą się w Gdyni 02.11.2025 ! To doskonała okazja\, by zmierzyć się w różnych konkurencjach strzeleckich i sprawdzić swoje umiejętności podczas rywalizacji z innymi zawodnikami. Udział w zawodach jest dostępny dla wszystkich\, w tym juniorów i klubowiczów KSS Garda\, a także dla osób chcących spróbować swoich sił w różnych dyscyplinach strzelectwa. To pierwsza w tym roku szansa na przedłużenie licencji! \nKOSZTY UCZESTNICTWA:\n\nZawodnik startujący:\nKażda konkurencja – 25 zł (wpłata przed startem w biurze zawodów).\nJuniorzy:\nZwolnieni z opłaty startowej (darmowy udział w zawodach).\nKlubowicze KSS Garda:\n15 % zniżki\n\nKOSZTY AMUNICJI:\nAmunicja do poszczególnych konkurencji zawodów „Już Czas” dla zawodników nieposiadających własnej broni jest dostępna w kasie zawodów. Proszę pamiętać\, że wszystkie opłaty przyjmujemy przez portal bookit.one \n\nPistolet centralnego zapłonu 25m (Pcz10) – 20 zł (10 strzałów)\nPistolet Open 25m (Pcz10) – 20 zł (10 strzałów)\nPistolet bocznego zapłonu 25m (Pb10) – 10 zł (8 strzałów)\nPistolet sportowy dynamiczny 2×5 (Pspdn2x5) – 10 zł\nKarabin centralny zapłon 10 strzałów (Kcz10) – 30 zł\nKarabin Open 10 strzałów (Kcz10) – 30 zł\nStrzelba standard 5 strzałów (StStn5) – 15 zł\nStrzelba Open 5 strzałów (StOp5) – 15 zł\n\nPłatności:\nOpłaty startowe oraz za amunicję prosimy uiszczać przez portal bookit.one. Akceptujemy płatności zarówno kartą\, jak i blik\, co zapewnia wygodę i elastyczność dla wszystkich uczestników. \nDlaczego warto wziąć udział w zawodach strzeleckich „Już Czas”?\n\nProfesjonalna organizacja: Zawody „Już Czas” to doskonała okazja\, by sprawdzić swoje umiejętności w bezpiecznych i profesjonalnych warunkach.\nRóżnorodność konkurencji: Rywalizacja we wszystkich konkurencjach wymaganych do przedłużenia licencji\, takich jak pistolet centralnego zapłonu\, karabin czy strzelba\, zapewni emocje i wyzwania na każdym poziomie.\nAtrakcyjne zniżki dla klubowiczów: Członkowie KSS Garda mogą liczyć na zniżki startowe – tylko 20 zł za konkurencję!\n\nZapisz się już teraz i ciesz się licencją na kolejny rok! \n Link do zapisów \nRegulamin zawodów\nRegulamin Zawodów statycznych 2025
URL:https://strzelnica-playground.pl/wydarzenie/zawody-strzeleckie-juz-czas-edycja-listopad/
LOCATION:Strzelnica Playground im.Patryka Kalskiego\, Bernadowska 24\, Gdynia\, pomorskie\, 81-553\, Poland
CATEGORIES:Zawody
ATTACH;FMTTYPE=image/jpeg:https://strzelnica-playground.pl/wp-content/uploads/2025/10/7W5A6873-scaled.jpeg
END:VEVENT
BEGIN:VEVENT
DTSTART;TZID=Europe/Warsaw:20251026T090000
DTEND;TZID=Europe/Warsaw:20251026T150000
DTSTAMP:20260420T122547
CREATED:20251015T120318Z
LAST-MODIFIED:20251015T125932Z
UID:3606-1761469200-1761490800@strzelnica-playground.pl
SUMMARY:Zawody strzeleckie "Już Czas"
DESCRIPTION:Kolejne w tym roku zawody strzeleckie z serii „Już czas” \nZapisz się na zawody strzeleckie „Już Czas”\, które odbędą się w Gdyni! To doskonała okazja\, by zmierzyć się w różnych konkurencjach strzeleckich i sprawdzić swoje umiejętności podczas rywalizacji z innymi zawodnikami. Udział w zawodach jest dostępny dla wszystkich\, w tym juniorów i klubowiczów KSS Garda\, a także dla osób chcących spróbować swoich sił w różnych dyscyplinach strzelectwa. To pierwsza w tym roku szansa na przedłużenie licencji! \nKOSZTY UCZESTNICTWA:\n\nZawodnik startujący:\nKażda konkurencja – 25 zł (wpłata przed startem w biurze zawodów).\nJuniorzy:\nZwolnieni z opłaty startowej (darmowy udział w zawodach).\nKlubowicze KSS Garda:\n15 % zniżki\n\nKOSZTY AMUNICJI:\nAmunicja do poszczególnych konkurencji zawodów „Już Czas” dla zawodników nieposiadających własnej broni jest dostępna w kasie zawodów. Proszę pamiętać\, że wszystkie opłaty przyjmujemy przez portal bookit.one \n\nPistolet centralnego zapłonu 25m (Pcz10) – 20 zł (10 strzałów)\nPistolet Open 25m (Pcz10) – 20 zł (10 strzałów)\nPistolet bocznego zapłonu 25m (Pb10) – 10 zł (8 strzałów)\nPistolet sportowy dynamiczny 2×5 (Pspdn2x5) – 10 zł\nKarabin centralny zapłon 10 strzałów (Kcz10) – 30 zł\nKarabin Open 10 strzałów (Kcz10) – 30 zł\nStrzelba standard 5 strzałów (StStn5) – 15 zł\nStrzelba Open 5 strzałów (StOp5) – 15 zł\n\nPłatności:\nOpłaty startowe oraz za amunicję prosimy uiszczać przez portal bookit.one. Akceptujemy płatności zarówno kartą\, jak i blik\, co zapewnia wygodę i elastyczność dla wszystkich uczestników. \nDlaczego warto wziąć udział w zawodach strzeleckich „Już Czas”?\n\nProfesjonalna organizacja: Zawody „Już Czas” to doskonała okazja\, by sprawdzić swoje umiejętności w bezpiecznych i profesjonalnych warunkach.\nRóżnorodność konkurencji: Rywalizacja we wszystkich konkurencjach wymaganych do przedłużenia licencji\, takich jak pistolet centralnego zapłonu\, karabin czy strzelba\, zapewni emocje i wyzwania na każdym poziomie.\nAtrakcyjne zniżki dla klubowiczów: Członkowie KSS Garda mogą liczyć na zniżki startowe – tylko 20 zł za konkurencję!\n\nZapisz się już teraz i ciesz się licencją na kolejny rok! \n Link do zapisów \nRegulamin zawodów\nRegulamin Zawodów statycznych 2025
URL:https://strzelnica-playground.pl/wydarzenie/zawody-strzeleckie-juz-czas-3/
LOCATION:Strzelnica Playground im.Patryka Kalskiego\, Bernadowska 24\, Gdynia\, pomorskie\, 81-553\, Poland
CATEGORIES:Zawody
ATTACH;FMTTYPE=image/jpeg:https://strzelnica-playground.pl/wp-content/uploads/2024/11/7W5A3753-scaled.jpg
END:VEVENT
BEGIN:VEVENT
DTSTART;TZID=Europe/Warsaw:20250902T173000
DTEND;TZID=Europe/Warsaw:20250902T220000
DTSTAMP:20260420T122547
CREATED:20250825T123427Z
LAST-MODIFIED:20250825T123530Z
UID:3596-1756834200-1756850400@strzelnica-playground.pl
SUMMARY:Metalufka HG #6 2025
DESCRIPTION:Kolejna edycja zawodów METALUFKA. \nNa czym polegają zawody ? \nMETALUFKA to zawody strzeleckie typu pojedynkowego z wykorzystaniem broni krótkiej centralnego zapłonu i metalowych celów reaktywnych. \nLokalizacja:\nBernadowska 24\nGdynia\, Polska 81-553 \nORGANIZATOR ZAWODÓW:\nKSS GARDA Gdynia \nTERMIN I MIEJSCE ZAWODÓW\nWtorek\, 2 września 2025\, strzelnica Playground w Gdyni \nPROGRAM ZAWODÓW\nZawody typu Shootoff składające się z rundy klasyfikacyjnej oraz pojedynkowej (finałowej) \n17.30 – pierwsza grupa klasyfikacyjna\n18.00 – druga grupa klasyfikacyjna\n18.30 – trzecia grupa klasyfikacyjna\n19.00 – finały \nWYMAGANIA SPRZĘTOWE \n1.Dopuszcza się stosowanie wszelkiej broni\, amunicji i akcesoriów . Kabura (obowiązkowe wyposażenie) nie może wymagać palca spustowego do jej odblokowania lub wyciągnięcia broni. \n2.Przewiduje się podział na dwie klasy sprzętowe i rozegranie osobnych konkurencji dla każdej z nich. Część kwalifikacyjna rozgrywana jest wspólnie dla obu konkurencji\, zawodnicy klasyfikowani są w zadeklarowanej klasie. Część pojedynkowa przeprowadzana jest osobno dla każdej klasy sprzętowej i stanowi osobną konkurencję\, dla której wyłoniony zostaje zwycięzca. \n3.Rozgrywane konkurencje to Pistolet Standard oraz Pistolet Optyka. \n3.1. W konkurencji Pistolet Standard startować mogą zawodnicy używając broni wyposażonej wyłącznie w mechaniczne przyrządy celownicze. \n3.2. W konkurencji Pistolet Optyka startować mogą zawodnicy używając broni wyposażonej w optoelektroniczne przyrządy celownicze takie jak kolimatory czy wskaźniki laserowe. \n4. Warunkiem otwarcia danej klasy sprzętowej i rozegrania konkurencji jest zgłoszenie się do niej minimum 4 zawodników. \nKOSZTY UCZESTNICTWA: \nOpłatę startową w wysokości 50zł za konkurencję opłaca się na miejscu gotówką lub kartą.\nRegulamin Metalufki\nLink do zapisów:\nhttps://practiscore.com/metalufka-hg-6-2025/register \nA tych którzy chcą jeszcze podszkolić swój warsztat strzelecki zapraszamy na treningi sekcji dynamicznej KSS Garda
URL:https://strzelnica-playground.pl/wydarzenie/metalufka-hg-5-2025-2/
LOCATION:Strzelnica Playground im.Patryka Kalskiego\, Bernadowska 24\, Gdynia\, pomorskie\, 81-553\, Poland
CATEGORIES:kss garda,METALUFKA,Zawody
ATTACH;FMTTYPE=image/jpeg:https://strzelnica-playground.pl/wp-content/uploads/2025/01/7W5A9660-scaled.jpg
END:VEVENT
BEGIN:VEVENT
DTSTART;TZID=Europe/Warsaw:20250603T173000
DTEND;TZID=Europe/Warsaw:20250603T220000
DTSTAMP:20260420T122547
CREATED:20250527T111042Z
LAST-MODIFIED:20250527T111042Z
UID:3495-1748971800-1748988000@strzelnica-playground.pl
SUMMARY:Metalufka HG #5 2025
DESCRIPTION:Kolejna edycja zawodów METALUFKA. \nNa czym polegają zawody ? \nMETALUFKA to zawody strzeleckie typu pojedynkowego z wykorzystaniem broni krótkiej centralnego zapłonu i metalowych celów reaktywnych. \nLokalizacja:\nBernadowska 24\nGdynia\, Polska 81-553 \nORGANIZATOR ZAWODÓW:\nKSS GARDA Gdynia \nTERMIN I MIEJSCE ZAWODÓW\nWtorek\, 3 czerwca 2025\, strzelnica Playground w Gdyni \nPROGRAM ZAWODÓW\nZawody typu Shootoff składające się z rundy klasyfikacyjnej oraz pojedynkowej (finałowej) \n17.30 – pierwsza grupa klasyfikacyjna\n18.00 – druga grupa klasyfikacyjna\n18.30 – trzecia grupa klasyfikacyjna\n19.00 – finały \nWYMAGANIA SPRZĘTOWE \n1.Dopuszcza się stosowanie wszelkiej broni\, amunicji i akcesoriów . Kabura (obowiązkowe wyposażenie) nie może wymagać palca spustowego do jej odblokowania lub wyciągnięcia broni. \n2.Przewiduje się podział na dwie klasy sprzętowe i rozegranie osobnych konkurencji dla każdej z nich. Część kwalifikacyjna rozgrywana jest wspólnie dla obu konkurencji\, zawodnicy klasyfikowani są w zadeklarowanej klasie. Część pojedynkowa przeprowadzana jest osobno dla każdej klasy sprzętowej i stanowi osobną konkurencję\, dla której wyłoniony zostaje zwycięzca. \n3.Rozgrywane konkurencje to Pistolet Standard oraz Pistolet Optyka. \n3.1. W konkurencji Pistolet Standard startować mogą zawodnicy używając broni wyposażonej wyłącznie w mechaniczne przyrządy celownicze. \n3.2. W konkurencji Pistolet Optyka startować mogą zawodnicy używając broni wyposażonej w optoelektroniczne przyrządy celownicze takie jak kolimatory czy wskaźniki laserowe. \n4. Warunkiem otwarcia danej klasy sprzętowej i rozegrania konkurencji jest zgłoszenie się do niej minimum 4 zawodników. \nKOSZTY UCZESTNICTWA: \nOpłatę startową w wysokości 50zł za konkurencję opłaca się na miejscu gotówką lub kartą.\nRegulamin Metalufki\nLink do zapisów:\nhttps://practiscore.com/metalufka-hg-5-2025/register \nA tych którzy chcą jeszcze podszkolić swój warsztat strzelecki zapraszamy na treningi sekcji dynamicznej KSS Garda
URL:https://strzelnica-playground.pl/wydarzenie/metalufka-hg-5-2025/
LOCATION:Strzelnica Playground im.Patryka Kalskiego\, Bernadowska 24\, Gdynia\, pomorskie\, 81-553\, Poland
CATEGORIES:kss garda,METALUFKA,Zawody
ATTACH;FMTTYPE=image/jpeg:https://strzelnica-playground.pl/wp-content/uploads/2025/01/7W5A9660-scaled.jpg
END:VEVENT
BEGIN:VEVENT
DTSTART;TZID=Europe/Warsaw:20250506T173000
DTEND;TZID=Europe/Warsaw:20250506T220000
DTSTAMP:20260420T122547
CREATED:20250428T132559Z
LAST-MODIFIED:20250428T132559Z
UID:3485-1746552600-1746568800@strzelnica-playground.pl
SUMMARY:Metalufka HG #4 2025
DESCRIPTION:Kolejna edycja zawodów METALUFKA. \nNa czym polegają zawody ? \nMETALUFKA to zawody strzeleckie typu pojedynkowego z wykorzystaniem broni krótkiej centralnego zapłonu i metalowych celów reaktywnych. \nLokalizacja:\nBernadowska 24\nGdynia\, Polska 81-553 \nORGANIZATOR ZAWODÓW:\nKSS GARDA Gdynia \nTERMIN I MIEJSCE ZAWODÓW\nWtorek\, 6 maj 2025\, strzelnica Playground w Gdyni \nPROGRAM ZAWODÓW\nZawody typu Shootoff składające się z rundy klasyfikacyjnej oraz pojedynkowej (finałowej) \n17.30 – pierwsza grupa klasyfikacyjna\n18.00 – druga grupa klasyfikacyjna\n18.30 – trzecia grupa klasyfikacyjna\n19.00 – finały \nWYMAGANIA SPRZĘTOWE \n1.Dopuszcza się stosowanie wszelkiej broni\, amunicji i akcesoriów . Kabura (obowiązkowe wyposażenie) nie może wymagać palca spustowego do jej odblokowania lub wyciągnięcia broni. \n2.Przewiduje się podział na dwie klasy sprzętowe i rozegranie osobnych konkurencji dla każdej z nich. Część kwalifikacyjna rozgrywana jest wspólnie dla obu konkurencji\, zawodnicy klasyfikowani są w zadeklarowanej klasie. Część pojedynkowa przeprowadzana jest osobno dla każdej klasy sprzętowej i stanowi osobną konkurencję\, dla której wyłoniony zostaje zwycięzca. \n3.Rozgrywane konkurencje to Pistolet Standard oraz Pistolet Optyka. \n3.1. W konkurencji Pistolet Standard startować mogą zawodnicy używając broni wyposażonej wyłącznie w mechaniczne przyrządy celownicze. \n3.2. W konkurencji Pistolet Optyka startować mogą zawodnicy używając broni wyposażonej w optoelektroniczne przyrządy celownicze takie jak kolimatory czy wskaźniki laserowe. \n4. Warunkiem otwarcia danej klasy sprzętowej i rozegrania konkurencji jest zgłoszenie się do niej minimum 4 zawodników. \nKOSZTY UCZESTNICTWA: \nOpłatę startową w wysokości 50zł za konkurencję opłaca się na miejscu gotówką lub kartą.\nRegulamin Metalufki\nLink do zapisów:\nhttps://practiscore.com/metalufka-hg-4-2025-clone/register \nA tych którzy chcą jeszcze podszkolić swój warsztat strzelecki zapraszamy na treningi sekcji dynamicznej KSS Garda
URL:https://strzelnica-playground.pl/wydarzenie/metalufka-hg-4-2025-2/
LOCATION:Strzelnica Playground im.Patryka Kalskiego\, Bernadowska 24\, Gdynia\, pomorskie\, 81-553\, Poland
CATEGORIES:kss garda,METALUFKA,Zawody
ATTACH;FMTTYPE=image/jpeg:https://strzelnica-playground.pl/wp-content/uploads/2025/01/7W5A9660-scaled.jpg
END:VEVENT
BEGIN:VEVENT
DTSTART;TZID=Europe/Warsaw:20250413T090000
DTEND;TZID=Europe/Warsaw:20250413T160000
DTSTAMP:20260420T122547
CREATED:20250408T133851Z
LAST-MODIFIED:20250408T134320Z
UID:3467-1744534800-1744560000@strzelnica-playground.pl
SUMMARY:Zawody strzeleckie "Już Czas"
DESCRIPTION:Pierwsze w tym roku zawody strzeleckie z serii „Już czas” \nZapisz się na zawody strzeleckie „Już Czas”\, które odbędą się w Gdyni! To doskonała okazja\, by zmierzyć się w różnych konkurencjach strzeleckich i sprawdzić swoje umiejętności podczas rywalizacji z innymi zawodnikami. Udział w zawodach jest dostępny dla wszystkich\, w tym juniorów i klubowiczów KSS Garda\, a także dla osób chcących spróbować swoich sił w różnych dyscyplinach strzelectwa. To pierwsza w tym roku szansa na przedłużenie licencji! \nKOSZTY UCZESTNICTWA:\n\nZawodnik startujący:\nKażda konkurencja – 25 zł (wpłata przed startem w biurze zawodów).\nJuniorzy:\nZwolnieni z opłaty startowej (darmowy udział w zawodach).\nKlubowicze KSS Garda:\n15 % zniżki\n\nKOSZTY AMUNICJI:\nAmunicja do poszczególnych konkurencji zawodów „Już Czas” dla zawodników nieposiadających własnej broni jest dostępna w kasie zawodów. Proszę pamiętać\, że wszystkie opłaty przyjmujemy przez portal bookit.one \n\nPistolet centralnego zapłonu 10m (Pcz10) – 20 zł (10 strzałów)\nPistolet Open 10m (Pcz10) – 20 zł (10 strzałów)\nPistolet bocznego zapłonu 25m (Pb10) – 10 zł (8 strzałów)\nPistolet sportowy dynamiczny 2×5 (Pspdn2x5) – 10 zł\nKarabin centralny zapłon 10 strzałów (Kcz10) – 30 zł\nKarabin Open 10 strzałów (Kcz10) – 30 zł\nStrzelba standard 5 strzałów (StStn5) – 15 zł\nStrzelba Open 5 strzałów (StOp5) – 15 zł\n\nPłatności:\nOpłaty startowe oraz za amunicję prosimy uiszczać przez portal bookit.one. Akceptujemy płatności zarówno kartą\, jak i blik\, co zapewnia wygodę i elastyczność dla wszystkich uczestników. \nDlaczego warto wziąć udział w zawodach strzeleckich „Już Czas”?\n\nProfesjonalna organizacja: Zawody „Już Czas” to doskonała okazja\, by sprawdzić swoje umiejętności w bezpiecznych i profesjonalnych warunkach.\nRóżnorodność konkurencji: Rywalizacja we wszystkich konkurencjach wymaganych do przedłużenia licencji\, takich jak pistolet centralnego zapłonu\, karabin czy strzelba\, zapewni emocje i wyzwania na każdym poziomie.\nAtrakcyjne zniżki dla klubowiczów: Członkowie KSS Garda mogą liczyć na zniżki startowe – tylko 20 zł za konkurencję!\n\nZapisz się już teraz i ciesz się licencją na kolejny rok! \n Link do zapisów \nRegulamin zawodów\nRegulamin Zawodów statycznych 2025
URL:https://strzelnica-playground.pl/wydarzenie/zawody-strzeleckie-juz-czas-2/
LOCATION:Strzelnica Playground im.Patryka Kalskiego\, Bernadowska 24\, Gdynia\, pomorskie\, 81-553\, Poland
CATEGORIES:Zawody
ATTACH;FMTTYPE=image/jpeg:https://strzelnica-playground.pl/wp-content/uploads/2024/11/7W5A3753-scaled.jpg
END:VEVENT
BEGIN:VEVENT
DTSTART;TZID=Europe/Warsaw:20250401T173000
DTEND;TZID=Europe/Warsaw:20250401T220000
DTSTAMP:20260420T122547
CREATED:20250324T121214Z
LAST-MODIFIED:20250324T121214Z
UID:3454-1743528600-1743544800@strzelnica-playground.pl
SUMMARY:Metalufka HG #3 2025
DESCRIPTION:Kolejna edycja zawodów METALUFKA. \nNa czym polegają zawody ? \nMETALUFKA to zawody strzeleckie typu pojedynkowego z wykorzystaniem broni krótkiej centralnego zapłonu i metalowych celów reaktywnych. \nLokalizacja:\nBernadowska 24\nGdynia\, Polska 81-553 \nORGANIZATOR ZAWODÓW:\nKSS GARDA Gdynia \nTERMIN I MIEJSCE ZAWODÓW\nWtorek\, 1 kwietnia 2025\, strzelnica Playground w Gdyni \nPROGRAM ZAWODÓW\nZawody typu Shootoff składające się z rundy klasyfikacyjnej oraz pojedynkowej (finałowej) \n17.30 – pierwsza grupa klasyfikacyjna\n18.00 – druga grupa klasyfikacyjna\n18.30 – trzecia grupa klasyfikacyjna\n19.00 – finały \nWYMAGANIA SPRZĘTOWE \n1.Dopuszcza się stosowanie wszelkiej broni\, amunicji i akcesoriów . Kabura (obowiązkowe wyposażenie) nie może wymagać palca spustowego do jej odblokowania lub wyciągnięcia broni. \n2.Przewiduje się podział na dwie klasy sprzętowe i rozegranie osobnych konkurencji dla każdej z nich. Część kwalifikacyjna rozgrywana jest wspólnie dla obu konkurencji\, zawodnicy klasyfikowani są w zadeklarowanej klasie. Część pojedynkowa przeprowadzana jest osobno dla każdej klasy sprzętowej i stanowi osobną konkurencję\, dla której wyłoniony zostaje zwycięzca. \n3.Rozgrywane konkurencje to Pistolet Standard oraz Pistolet Optyka. \n3.1. W konkurencji Pistolet Standard startować mogą zawodnicy używając broni wyposażonej wyłącznie w mechaniczne przyrządy celownicze. \n3.2. W konkurencji Pistolet Optyka startować mogą zawodnicy używając broni wyposażonej w optoelektroniczne przyrządy celownicze takie jak kolimatory czy wskaźniki laserowe. \n4. Warunkiem otwarcia danej klasy sprzętowej i rozegrania konkurencji jest zgłoszenie się do niej minimum 4 zawodników. \nKOSZTY UCZESTNICTWA: \nOpłatę startową w wysokości 50zł za konkurencję opłaca się na miejscu gotówką lub kartą.\nRegulamin Metalufki\nLink do zapisów:\nhttps://www.practiscore.com/metalufka-hg-3-2025/register \nA tych którzy chcą jeszcze podszkolić swój warsztat strzelecki zapraszamy na treningi sekcji dynamicznej KSS Garda
URL:https://strzelnica-playground.pl/wydarzenie/metalufka-hg-3-2025/
LOCATION:Strzelnica Playground im.Patryka Kalskiego\, Bernadowska 24\, Gdynia\, pomorskie\, 81-553\, Poland
CATEGORIES:kss garda,METALUFKA,Zawody
ATTACH;FMTTYPE=image/jpeg:https://strzelnica-playground.pl/wp-content/uploads/2025/01/7W5A9660-scaled.jpg
END:VEVENT
BEGIN:VEVENT
DTSTART;TZID=Europe/Warsaw:20241231T090000
DTEND;TZID=Europe/Warsaw:20241231T140000
DTSTAMP:20260420T122547
CREATED:20241212T104404Z
LAST-MODIFIED:20241212T112410Z
UID:3291-1735635600-1735653600@strzelnica-playground.pl
SUMMARY:Zawody strzeleckie "Już Czas"
DESCRIPTION:Ostatnie w tym roku zawody strzeleckie z serii „Już czas” \nZapisz się na zawody strzeleckie „Już Czas”\, które odbędą się w Gdyni! To doskonała okazja\, by zmierzyć się w różnych konkurencjach strzeleckich i sprawdzić swoje umiejętności podczas rywalizacji z innymi zawodnikami. Udział w zawodach jest dostępny dla wszystkich\, w tym juniorów i klubowiczów KSS Garda\, a także dla osób chcących spróbować swoich sił w różnych dyscyplinach strzelectwa. To ostatnia w tym roku szansa na przedłużenie licencji! \nKOSZTY UCZESTNICTWA:\n\nZawodnik startujący:\nKażda konkurencja – 25 zł (wpłata przed startem w biurze zawodów).\nJuniorzy:\nZwolnieni z opłaty startowej (darmowy udział w zawodach).\nKlubowicze KSS Garda:\nKażda konkurencja – 20 zł (wpłata przed startem w biurze zawodów).\n\nKOSZTY AMUNICJI:\nAmunicja do poszczególnych konkurencji zawodów „Już Czas” dla zawodników nieposiadających własnej broni jest dostępna w kasie zawodów. Proszę pamiętać\, że wszystkie opłaty za amunicję należy uiścić w dniu zawodów. \n\nPistolet centralnego zapłonu 10m (Pcz10) – 20 zł (10 strzałów)\nPistolet Open 10m (Pcz10) – 20 zł (10 strzałów)\nPistolet bocznego zapłonu 25m (Pb10) – 10 zł (8 strzałów)\nPistolet sportowy dynamiczny 2×5 (Pspdn2x5) – 10 zł\nKarabin centralny zapłon 10 strzałów (Kcz10) – 30 zł\nKarabin Open 10 strzałów (Kcz10) – 30 zł\nStrzelba standard 5 strzałów (StStn5) – 15 zł\nStrzelba Open 5 strzałów (StOp5) – 15 zł\n\nPłatności:\nOpłaty startowe oraz za amunicję prosimy uiszczać w kasie na miejscu zawodów. Akceptujemy płatności zarówno kartą\, jak i gotówką\, co zapewnia wygodę i elastyczność dla wszystkich uczestników. \nDlaczego warto wziąć udział w zawodach strzeleckich „Już Czas”?\n\nProfesjonalna organizacja: Zawody „Już Czas” to doskonała okazja\, by sprawdzić swoje umiejętności w bezpiecznych i profesjonalnych warunkach.\nRóżnorodność konkurencji: Rywalizacja we wszystkich konkurencjach wymaganych do przedłużenia licencji\, takich jak pistolet centralnego zapłonu\, karabin czy strzelba\, zapewni emocje i wyzwania na każdym poziomie.\nAtrakcyjne zniżki dla klubowiczów: Członkowie KSS Garda mogą liczyć na zniżki startowe – tylko 20 zł za konkurencję!\n\nZapisz się już teraz! Link do zapisów poniżej. \nhttps://forms.gle/KoYTRjebtk9x8ocy6
URL:https://strzelnica-playground.pl/wydarzenie/zawody-strzeleckie-juz-czas/
LOCATION:Strzelnica Playground im.Patryka Kalskiego\, Bernadowska 24\, Gdynia\, pomorskie\, 81-553\, Poland
CATEGORIES:Zawody
ATTACH;FMTTYPE=image/jpeg:https://strzelnica-playground.pl/wp-content/uploads/2024/11/7W5A3753-scaled.jpg
END:VEVENT
END:VCALENDAR