BEGIN:VCALENDAR
VERSION:2.0
PRODID:-//Strzelnica Playground - ECPv6.15.13.1//NONSGML v1.0//EN
CALSCALE:GREGORIAN
METHOD:PUBLISH
X-ORIGINAL-URL:https://strzelnica-playground.pl
X-WR-CALDESC:Wydarzenia dla Strzelnica Playground
REFRESH-INTERVAL;VALUE=DURATION:PT1H
X-Robots-Tag:noindex
X-PUBLISHED-TTL:PT1H
BEGIN:VTIMEZONE
TZID:Europe/Warsaw
BEGIN:DAYLIGHT
TZOFFSETFROM:+0100
TZOFFSETTO:+0200
TZNAME:CEST
DTSTART:20230326T010000
END:DAYLIGHT
BEGIN:STANDARD
TZOFFSETFROM:+0200
TZOFFSETTO:+0100
TZNAME:CET
DTSTART:20231029T010000
END:STANDARD
BEGIN:DAYLIGHT
TZOFFSETFROM:+0100
TZOFFSETTO:+0200
TZNAME:CEST
DTSTART:20240331T010000
END:DAYLIGHT
BEGIN:STANDARD
TZOFFSETFROM:+0200
TZOFFSETTO:+0100
TZNAME:CET
DTSTART:20241027T010000
END:STANDARD
BEGIN:DAYLIGHT
TZOFFSETFROM:+0100
TZOFFSETTO:+0200
TZNAME:CEST
DTSTART:20250330T010000
END:DAYLIGHT
BEGIN:STANDARD
TZOFFSETFROM:+0200
TZOFFSETTO:+0100
TZNAME:CET
DTSTART:20251026T010000
END:STANDARD
END:VTIMEZONE
BEGIN:VEVENT
DTSTART;TZID=Europe/Warsaw:20240928T120000
DTEND;TZID=Europe/Warsaw:20240928T160000
DTSTAMP:20260419T223358
CREATED:20240910T124946Z
LAST-MODIFIED:20240910T125438Z
UID:3191-1727524800-1727539200@strzelnica-playground.pl
SUMMARY:Warsztaty "Twoje Pierwsze Zawody IPSC"
DESCRIPTION:Nigdy nie brałeś udziału w zawodach IPSC? Nie za bardzo orientujesz się w temacie? Masz świadomość\, że to może być najlepsze hobby jakie zaoferowało Ci życie?\n\nGarda Arms i Strzelnica Playground wychodzi naprzeciw. Na warsztatach „Twoje pierwsze zawody IPSC” Doświadczeni zawodnicy i instruktorzy Nikodem Wysocki i Piotr Kasa Bilon wyjaśnią wam wszystko od A do Z-przepisy bezpieczeństwa w IPSC-zachowanie na strzelnicy-komendy sędziego-omówienie celów i zasad gry-sprzęt IPSC-zapoznanie z dwoma torami ćwiczebnymi\, który każdy przejdzie najpierw „na sucho”-właściwy trening – możliwość strzelenia każdego toru przez wszystkich uczestników \n\nWymagane-Pozwolenie na broń-Własna broń – pistolet w kalibrze 9mm-2 magazynki-ochronniki słuchu oraz wzroku-Marker/Flamaster-sugerowana ilość amunicji – 100 sztuk\n\nNabytą wiedzę i umiejętności będziecie mogli wykorzystać już tydzień później na zawodach „Trzymaj Gardę” organizowanych również na strzelnicy Playground. Dołącz do naszej społeczności i przekonaj się\, jak wiele emocji daje strzelectwo IPSC! \n\nDo 13.09 obowiązują promocyjne ceny\nCena do 13.09180zł(klubowicze KSS Garda 150zł)\n\nCena po 13.09210zł(klubowicze KSS Garda 180zł) \n\nZapisy pod nr tel lub e-mail605152425playground@gardaarms.pl\nlub na stroniehttps://www.gardaarms.pl/produkty/strzelnica/2-262
URL:https://strzelnica-playground.pl/wydarzenie/warsztaty-twoje-pierwsze-zawody-ipsc/
LOCATION:Strzelnica Playground im.Patryka Kalskiego\, Bernadowska 24\, Gdynia\, pomorskie\, 81-553\, Poland
CATEGORIES:Szkolenia
ATTACH;FMTTYPE=image/jpeg:https://strzelnica-playground.pl/wp-content/uploads/2024/09/IMG-20240906-WA0001.jpg
ORGANIZER;CN="Garda Arms":MAILTO:sklep@gardaarms.pl
END:VEVENT
END:VCALENDAR