BEGIN:VCALENDAR
VERSION:2.0
PRODID:-//Strzelnica Playground - ECPv6.15.13.1//NONSGML v1.0//EN
CALSCALE:GREGORIAN
METHOD:PUBLISH
X-WR-CALNAME:Strzelnica Playground
X-ORIGINAL-URL:https://strzelnica-playground.pl
X-WR-CALDESC:Wydarzenia dla Strzelnica Playground
REFRESH-INTERVAL;VALUE=DURATION:PT1H
X-Robots-Tag:noindex
X-PUBLISHED-TTL:PT1H
BEGIN:VTIMEZONE
TZID:Europe/Warsaw
BEGIN:DAYLIGHT
TZOFFSETFROM:+0100
TZOFFSETTO:+0200
TZNAME:CEST
DTSTART:20240331T010000
END:DAYLIGHT
BEGIN:STANDARD
TZOFFSETFROM:+0200
TZOFFSETTO:+0100
TZNAME:CET
DTSTART:20241027T010000
END:STANDARD
BEGIN:DAYLIGHT
TZOFFSETFROM:+0100
TZOFFSETTO:+0200
TZNAME:CEST
DTSTART:20250330T010000
END:DAYLIGHT
BEGIN:STANDARD
TZOFFSETFROM:+0200
TZOFFSETTO:+0100
TZNAME:CET
DTSTART:20251026T010000
END:STANDARD
BEGIN:DAYLIGHT
TZOFFSETFROM:+0100
TZOFFSETTO:+0200
TZNAME:CEST
DTSTART:20260329T010000
END:DAYLIGHT
BEGIN:STANDARD
TZOFFSETFROM:+0200
TZOFFSETTO:+0100
TZNAME:CET
DTSTART:20261025T010000
END:STANDARD
END:VTIMEZONE
BEGIN:VEVENT
DTSTART;TZID=Europe/Warsaw:20250308T090000
DTEND;TZID=Europe/Warsaw:20250308T160000
DTSTAMP:20260420T154329
CREATED:20250115T140136Z
LAST-MODIFIED:20250116T194245Z
UID:3368-1741424400-1741449600@strzelnica-playground.pl
SUMMARY:Warsztaty IPSC Skills and Drills
DESCRIPTION:Warsztaty IPSC Skills and Drills – Strzelnica Playground & Range Solutions \nStrzelnica Playground oraz Range Solutions zapraszają na Warsztaty IPSC Skills and Drills\, które odbędą się na naszej strzelnicy. Jest to zaawansowane szkolenie\, skierowane do osób z doświadczeniem w strzelaniu IPSC\, które pragną doskonalić swoje umiejętności pod okiem doświadczonego instruktora – Bartosza Szczęsnego. \nSzczegóły Warsztatów IPSC Skills and Drills\nWarsztaty odbywają się w kameralnych grupach do 10 osób\, co zapewnia indywidualne podejście i wystarczająco dużo czasu dla każdego uczestnika. W programie szkolenia znajdują się techniki i ćwiczenia przygotowane przez Vice Mistrza Świata\, takie jak: \n\nTrening przeniesień\,\nDobycie broni poniżej 1 sekundy\,\nStrzelanie w ruchu\,\nStrzelanie w czasie zatrzymywania\,\nBłyskawiczna zmiana planu\,\n\nInformacje Praktyczne\n\nCzas trwania warsztatów: do 6 godzin\nWymagana ilość amunicji: 500 sztuk\nLiczba miejsc: 10\nKoszt: 600 zł\n\nProwadzący warsztaty:\nInstruktor: Bartosz Szczęsny \nOrganizatorzy Zapewniają\n\nStrzelnicę\nTarcze\nProfesjonalne szkolenie\nDoskonałą zabawę\n\nKontakt i Rejestracja\nJeśli masz pytania lub chcesz się zapisać\, skontaktuj się z nami:\nBartosz Szczęsny\nTelefon: 601 333 134\nE-mail: rysiek@rangesolutions.pl\nLink do zapisów \n\nBartosz Szczęsny – Wybitny Instruktor Strzelectwa Dynamicznego \nBartosz Szczęsny to wybitny instruktor strzelectwa oraz czołowy zawodnik strzelectwa dynamicznego w Polsce. Jako wielokrotny Mistrz i Vice Mistrz Polski\, zdobył uznanie nie tylko na krajowym podwórku\, ale również na arenie międzynarodowej. Jest najlepszym polskim zawodnikiem w historii Mistrzostw Europy\, Afryki\, Abu Ameryk\, a także Vice Mistrzem Świata\, co czyni go jednym z najbardziej utytułowanych sportowców w tej dyscyplinie. Dzięki ogromnemu doświadczeniu oraz pasji do strzelectwa\, Bartosz Szczęsny oferuje profesjonalne szkolenia\, które pomagają rozwijać umiejętności zarówno początkującym\, jak i zaawansowanym strzelcom. Jego indywidualne podejście do każdego uczestnika oraz zaawansowana wiedza praktyczna sprawiają\, że jest cenionym i respektowanym instruktorem w Polsce i za granicą. Jeżeli chcesz dowiedzieć się o nim więcej koniecznie zajrzyj na kanał „Szybciej i Celniej” gdzie jednym z gości jest Bartosz Szczęsny \n\nZawody IPSC „Trzymaj Gardę” – Sprawdź Swoje Umiejętności w Praktyce \nWszystkich uczestników naszych szkoleń serdecznie zapraszamy do wzięcia udziału w zawodach IPSC „Trzymaj Gardę”. To doskonała okazja\, by sprawdzić swoje umiejętności w praktyce i zmierzyć się z najlepszymi strzelcami w dynamicznych konkurencjach. Zawody te cieszą się dużym uznaniem wśród pasjonatów strzelectwa dynamicznego\, a udział w nich to nie tylko świetna zabawa\, ale również doskonała możliwość doskonalenia swoich zdolności. \nDla Początkujących – Treningi w Sekcji Dynamicznej KSS Garda\nJeśli natomiast dopiero zaczynasz swoją przygodę z strzelectwem dynamicznym\, zapraszamy do naszej sekcji dynamicznej KSS Garda. Regularne treningi z doświadczonymi instruktorami pozwolą Ci na szybki rozwój i nabycie niezbędnych umiejętności\, które przygotują Cię do udziału w zawodach. Niezależnie od poziomu zaawansowania\, nasze treningi są dostosowane do indywidualnych potrzeb uczestników\, co pozwala na skuteczne i bezpieczne nauczanie. Dołącz do nas i rozwijaj swoje strzeleckie pasje!
URL:https://strzelnica-playground.pl/wydarzenie/warsztaty-ipsc-skills-and-drills/
LOCATION:Strzelnica Playground im.Patryka Kalskiego\, Bernadowska 24\, Gdynia\, pomorskie\, 81-553\, Poland
CATEGORIES:BartoszSzczęsny,IPSC,Skill and Drills,Szkolenia,Trzymaj Gardę,Vc-mistrz świata,Warsztaty IPSC Skills and Drills,Zawody
ATTACH;FMTTYPE=image/jpeg:https://strzelnica-playground.pl/wp-content/uploads/2025/01/skills-and-drills.jpg
END:VEVENT
END:VCALENDAR