BEGIN:VCALENDAR
VERSION:2.0
PRODID:-//Strzelnica Playground - ECPv6.15.13.1//NONSGML v1.0//EN
CALSCALE:GREGORIAN
METHOD:PUBLISH
X-WR-CALNAME:Strzelnica Playground
X-ORIGINAL-URL:https://strzelnica-playground.pl
X-WR-CALDESC:Wydarzenia dla Strzelnica Playground
REFRESH-INTERVAL;VALUE=DURATION:PT1H
X-Robots-Tag:noindex
X-PUBLISHED-TTL:PT1H
BEGIN:VTIMEZONE
TZID:Europe/Warsaw
BEGIN:DAYLIGHT
TZOFFSETFROM:+0100
TZOFFSETTO:+0200
TZNAME:CEST
DTSTART:20230326T010000
END:DAYLIGHT
BEGIN:STANDARD
TZOFFSETFROM:+0200
TZOFFSETTO:+0100
TZNAME:CET
DTSTART:20231029T010000
END:STANDARD
BEGIN:DAYLIGHT
TZOFFSETFROM:+0100
TZOFFSETTO:+0200
TZNAME:CEST
DTSTART:20240331T010000
END:DAYLIGHT
BEGIN:STANDARD
TZOFFSETFROM:+0200
TZOFFSETTO:+0100
TZNAME:CET
DTSTART:20241027T010000
END:STANDARD
BEGIN:DAYLIGHT
TZOFFSETFROM:+0100
TZOFFSETTO:+0200
TZNAME:CEST
DTSTART:20250330T010000
END:DAYLIGHT
BEGIN:STANDARD
TZOFFSETFROM:+0200
TZOFFSETTO:+0100
TZNAME:CET
DTSTART:20251026T010000
END:STANDARD
END:VTIMEZONE
BEGIN:VEVENT
DTSTART;TZID=Europe/Warsaw:20240518T080000
DTEND;TZID=Europe/Warsaw:20240518T130000
DTSTAMP:20260420T015338
CREATED:20240419T105129Z
LAST-MODIFIED:20240419T105129Z
UID:2997-1716019200-1716037200@strzelnica-playground.pl
SUMMARY:Karabinek etap A - Fundamenty Strzelania Bojowego
DESCRIPTION:Podstawowe szkolenie strzeleckie z broni długiej (karabinek AR15\, AK itd) w czasie którego uczymy przede wszystkim celnie strzelać. Szkolenie prowadzone jest w oparciu o zasady elitarnego kursu dla sił specjalnych – Combat Marksmanship Course (CMMS). Jesteśmy jedyną firma w Polsce uczącą według tych standardów! W czasie zajęć dowiesz się czym jest strzelectwo bojowe. Obalamy wiele mitów i rozwiewamy wiele wątpliwości dotyczących podstaw strzelania bojowego. Wszystkie zagadnienia dokładnie tłumaczymy\, dzięki czemu wiesz czego się uczysz co znacząco przyśpiesza proces szkolenia. Zajęcia prowadzone są przez byłych operatorów wojsk specjalnych (JWK\, BOA). Nie ma znaczenia jak długo strzelasz\, my uczymy od podstaw. Zdziwisz się jak mylne miałeś wyobrażenie o strzelaniu bojowym.\nNie jest wymagane żadne doświadczenie z bronią! \nZobacz jak szkolimy: https://youtu.be/oHyGkDWoAHo\nCOMBAT MARKSMANSHIP COURSE (CMMS)Kurs strzelania bojowego opracowany przez operatorów amerykańskich wojsk specjalnych DELTA FORCE oraz NAVY SEALs. Doświadczenia z wojen w Iraku oraz w Afganistanie jasno pokazały\, że to co działa na strzelnicy nie zawsze działa na współczesnym polu walki. Strzelectwo bojowe zmieniło się bardzo mocno w ostatnich latach\, ze względu na zmianę charakteru wojen\, pole walki i używaną broń. CMMS to zbiór doświadczeń\, dzięki któremu wypracowano najlepsze i najskuteczniejsze techniki strzeleckie\, które gwarantują sukces w czasie walki z użyciem broni krótkiej i długiej w różnych sytuacjach bojowych. Program szkolenia POL SOF ACADEMY został ułożony w sposób gwarantujący stały rozwój. W czasie szkolenia przede wszystkim uczymy walczyć z użyciem broni palnej\, dlatego podstawą jest dobre opanowanie fundamentów strzelania bojowego!\nZakres szkolenia:W czasie szkolenia podstawowego skupiamy się na budowaniu solidnych podstaw strzelania bojowego. Zwracamy uwagę na każdy detal\, bo tylko tak buduje się porządne fundamenty\, na bazie których będzie można rozwijać dalsze umiejętności. W czasie szkolenia wszystko dokładnie tłumaczymy\, pokazujemy skąd dana technika sie wzięła\, dlaczego wygląda tak\, a nie inaczej i dokąd takie umiejętności nas zaprowadzą. W czasie swojej służby przeszliśmy różne szkoły strzelania bojowego\, więc wiem dokładnie co działa\, a co nie działa.\nCzego uczymy:– zasad bezpieczeństwa– budowy i zasady działania karabinka AR15/AK– bezpiecznego ładowania i rozładowania broni– podstawową postawę strzelecką– chwytu broni– zgrywania i obserwacji przyrządów celowniczych– prawidłowego ułożenia palca na spuście– pracy na spuście– prawidłowego oddychania w czasie strzelania\nKto może wziąć udział w szkoleniu?Szkolenie zarówno dla cywili jak i dla żołnierzy oraz funkcjonariuszy. Nie ma znaczenia jaki masz poziom doświadczenia!\nCo zabrać?Wszyscy uczestnicy:– wygodny strój adekwatny do pory roku i prognozowanej pogody– nakrycie głowy– spodnie najlepiej z szerokimi szlufkami 4-5cm (w miarę możliwości)– resztę wyposażenia otrzymujecie od nas\nUczestnicy z własną bronią:– karabinek AR15/AK lub każdy inny na którym chcesz sie szkolić!– 100szt. amunicji– 2 magazynki– pas\, kabura\, ładownica– ochronniki słuchu– ochronniki wzroku\nRegulamin i warunki szkolenia dostępne na stronie https://polsofacademy.plZachęcamy do sprawdzenia oferty na pozostałe szkolenia. \n  \nCENA Z WŁASNĄ BRONIĄ: 500zł (mundurowi 400zł)CENA Z NASZĄ BRONIĄ I AMUNICJĄ: 900zł (mundurowi 800zł)GODZINA ROZPOCZĘCIA: 08:00 (rozpoczęcie o 8:00 kolejna grupa o 13:30 – decyduje kolejność zgłoszeń)\nPAMIETAJ: Tego dnia możesz ukończyć oba szkolenia podstawowe – pistolet oraz karabinek!Dodatkowo następnego dnia można ukończyć jedno ze szkoleń średnio zaawansowanych: pistolet etap R – strzelanie w ruchu\, etap B – strzelanie z wykorzystaniem barykady lub etap C – Combat Critical Skills (zależy które prowadzimy w tym terminie).\nSprawdź na naszej stronie www.polsofacademy.pl! \n  \n 
URL:https://strzelnica-playground.pl/wydarzenie/karabinek-etap-a-fundamenty-strzelania-bojowego/
LOCATION:Strzelnica Playground im.Patryka Kalskiego\, Bernadowska 24\, Gdynia\, pomorskie\, 81-553\, Poland
CATEGORIES:Szkolenia
ATTACH;FMTTYPE=image/jpeg:https://strzelnica-playground.pl/wp-content/uploads/2024/04/431771980_996621932032975_2110974000022542754_n.jpg
ORGANIZER;CN="Pol Sof Academy":MAILTO:kontakt@polsofacademy.pl
END:VEVENT
END:VCALENDAR