BEGIN:VCALENDAR
VERSION:2.0
PRODID:-//Strzelnica Playground - ECPv6.15.13.1//NONSGML v1.0//EN
CALSCALE:GREGORIAN
METHOD:PUBLISH
X-ORIGINAL-URL:https://strzelnica-playground.pl
X-WR-CALDESC:Wydarzenia dla Strzelnica Playground
REFRESH-INTERVAL;VALUE=DURATION:PT1H
X-Robots-Tag:noindex
X-PUBLISHED-TTL:PT1H
BEGIN:VTIMEZONE
TZID:Europe/Warsaw
BEGIN:DAYLIGHT
TZOFFSETFROM:+0100
TZOFFSETTO:+0200
TZNAME:CEST
DTSTART:20230326T010000
END:DAYLIGHT
BEGIN:STANDARD
TZOFFSETFROM:+0200
TZOFFSETTO:+0100
TZNAME:CET
DTSTART:20231029T010000
END:STANDARD
BEGIN:DAYLIGHT
TZOFFSETFROM:+0100
TZOFFSETTO:+0200
TZNAME:CEST
DTSTART:20240331T010000
END:DAYLIGHT
BEGIN:STANDARD
TZOFFSETFROM:+0200
TZOFFSETTO:+0100
TZNAME:CET
DTSTART:20241027T010000
END:STANDARD
BEGIN:DAYLIGHT
TZOFFSETFROM:+0100
TZOFFSETTO:+0200
TZNAME:CEST
DTSTART:20250330T010000
END:DAYLIGHT
BEGIN:STANDARD
TZOFFSETFROM:+0200
TZOFFSETTO:+0100
TZNAME:CET
DTSTART:20251026T010000
END:STANDARD
END:VTIMEZONE
BEGIN:VEVENT
DTSTART;TZID=Europe/Warsaw:20241208T093000
DTEND;TZID=Europe/Warsaw:20241208T180000
DTSTAMP:20260420T135406
CREATED:20241121T150422Z
LAST-MODIFIED:20241207T221600Z
UID:3258-1733650200-1733680800@strzelnica-playground.pl
SUMMARY:Zawody "Już czas" ODWOŁANE
DESCRIPTION:Kolejne zawody z cyklu „Już czas”\nKOSZTY UCZESTNICTWA :• Zawodnik startujący -każda konkurencja 25 zł wpłacane przed startem w biurze zawodów.• Juniorzy – zwolnieni z opłaty startowej.• Klubowicze KSS Garda -każda konkurencja 20 zł wpłacane przed startem w biurze zawodów.Koszty amunicji dla broni obiektowej –Pistolet centralnego zapłonu 10m\, 10 strzałów(Pcz10)- 20złPistolet Open 10m\, 10 strzałów(Pcz10)-20 złPistolet bocznego zapłonu 25m\, 8 strzałów(Pb10)-10 złPistolet sportowy dynamiczny-2×5: (Pspdn2x5)-10 złKarabin centralny zapłon 10 strzałów(Kcz10)- 30 złKarabin Open 10 strzałów(Kcz10)-30 złStrzelba standard 5 strzałów(StStn5)-15 złStrzelba open 5 strzałów(StOp5)-15złOpłaty proszę uiszczać w kasie na miejscu zawodów. Możliwość płatności kartą lub gotówką.\nNiestety zawody zostają odwołane. Zawodnicy zapisani na zawody otrzymają 10% zniżki na kolejne zawody „Już czas” które odbędą się 31.12.2024 r. Najmocniej przepraszamy.\n\nRegulamin zawodów:\nRegulamin Zawodów statycznych 2024 (1)\nLink do zapisów:\nhttps://docs.google.com/forms/d/e/1FAIpQLSem5xQhhD32dZ7oNFv1scSN7pBXiWOZbORJYDsHsd-k3Q2tWg/viewform?usp=sf_link
URL:https://strzelnica-playground.pl/wydarzenie/zawody-juz-czas/
LOCATION:Strzelnica Playground im.Patryka Kalskiego\, Bernadowska 24\, Gdynia\, pomorskie\, 81-553\, Poland
CATEGORIES:Zawody
ATTACH;FMTTYPE=image/jpeg:https://strzelnica-playground.pl/wp-content/uploads/2024/11/7W5A3753-scaled.jpg
ORGANIZER;CN="Garda Arms":MAILTO:sklep@gardaarms.pl
END:VEVENT
END:VCALENDAR